BEGIN:VCALENDAR
VERSION:2.0
PRODID:icalendar-ruby
CALSCALE:GREGORIAN
METHOD:PUBLISH
BEGIN:VEVENT
DTSTAMP:20260422T223857Z
UID:81-1159269@ufwbchurches.com
DTSTART:20260930T223000Z
DTEND:20260930T233000Z
CLASS:PUBLIC
CREATED:20260422T163754
DESCRIPTION:
LAST-MODIFIED:20260422T163754
LOCATION:Calvary  1520-1530 Herkimer St.  Brooklyn\, NY
SUMMARY:Calvary - Power of Prayer
URL;VALUE=URI:https://www.ufwbchurches.com/events/calvary-power-of-prayer/2
 026-09-30
ATTACH;FILENAME=Photo-Apr-06-2025%2C-9-31-30-PM-%281%29.jpg;FMTTYPE=image/j
 peg:https://dq5pwpg1q8ru0.cloudfront.net/2025/04/07/02/34/09/7797735c-b74a
 -488a-8dca-3b4e783cc87c/Photo-Apr-06-2025%252C-9-31-30-PM-%25281%2529.jpg
END:VEVENT
END:VCALENDAR
